BEGIN:VCALENDAR
PRODID:brasil.gov.agenda
VERSION:1.0
BEGIN:VEVENT
DTSTART:20171004T164600Z
DTEND:20171004T184600Z
DCREATED:20170918T154806Z
UID:Compromisso-eb11d41ca5a946a5bf3fe92ddf1e2a42
SEQUENCE:0
LAST-MODIFIED:20170918T154806Z
SUMMARY:Defesa do trabalho de conclusão de Marcelo Paixão\, turma 2015.
PRIORITY:3
TRANSP:0
END:VEVENT
END:VCALENDAR
