BEGIN:VCALENDAR
PRODID:brasil.gov.agenda
VERSION:1.0
BEGIN:VEVENT
DTSTART:20171003T170000Z
DTEND:20171003T193600Z
DCREATED:20171003T133802Z
UID:Compromisso-bcd88ff69b3444f7996ecf8657df6ef2
SEQUENCE:0
LAST-MODIFIED:20171003T133803Z
SUMMARY:Reunião Extraordinária do Colegiado
DESCRIPTION:Avaliação da Capes
LOCATION:Vidoconferência PPEA Campus Macaé
PRIORITY:3
TRANSP:0
END:VEVENT
END:VCALENDAR
