BEGIN:VCALENDAR
PRODID:brasil.gov.agenda
VERSION:1.0
BEGIN:VEVENT
DTSTART:20171002T120000Z
DTEND:20171002T140000Z
DCREATED:20170918T154927Z
UID:Compromisso-fa5efa9335aa47f79fd6fb59b562bccb
SEQUENCE:0
LAST-MODIFIED:20170918T154927Z
SUMMARY:Defesa do trabalho de conclusão de Nathalie Terra\, turma 2015.
LOCATION:Campus Macaé
PRIORITY:3
TRANSP:0
END:VEVENT
END:VCALENDAR
