BEGIN:VCALENDAR
PRODID:brasil.gov.agenda
VERSION:1.0
BEGIN:VEVENT
DTSTART:20170930T190000Z
DTEND:20170930T210000Z
DCREATED:20170918T155108Z
UID:Compromisso-d707b0ce02184be686b37d17af2e3690
SEQUENCE:0
LAST-MODIFIED:20170922T165917Z
SUMMARY:Defesa do trabalho de conclusÃ£o de Tainara Mendes\, turma 2015.
DESCRIPTION:TÃ­tulo do trabalho:  AvaliaÃ§Ã£o do estado de conservaÃ§Ã
 £o de nascentes em  territÃ³rio quilombola: estudo de caso no Quilombo
  Boa EsperanÃ§a\, Areal-RJ.
LOCATION:Quilombo Boa EsperanÃ§a\, em Areal
PRIORITY:3
TRANSP:0
END:VEVENT
END:VCALENDAR
