BEGIN:VCALENDAR
PRODID:brasil.gov.agenda
VERSION:1.0
BEGIN:VEVENT
DTSTART:20170928T130000Z
DTEND:20170928T150000Z
DCREATED:20170918T154349Z
UID:Compromisso-5bbea0d6d4b141aea10dfb0deac6715f
SEQUENCE:0
LAST-MODIFIED:20170921T165357Z
SUMMARY:Defesa do trabalho de conclusão de Luiza Paula da Silva\, turma 2015.
DESCRIPTION:Título do trabalho: ESTUDO DE PROPOSTAS DE MITIGAÇÃO DE
  CHEIAS COMO SUBSÍDIO AO PLANO DE RECURSOS HÍDRICOS DA REGIÃO HIDRO
 GRÁFICA VIII
LOCATION:Vidoconferência PPEA Campus Macaé
PRIORITY:3
TRANSP:0
END:VEVENT
END:VCALENDAR
