BEGIN:VCALENDAR
PRODID:brasil.gov.agenda
VERSION:1.0
BEGIN:VEVENT
DTSTART:20170925T120000Z
DTEND:20170925T165800Z
DCREATED:20170918T160007Z
UID:Compromisso-e320a379ee9a473a98fdc5ddabca62c8
SEQUENCE:0
LAST-MODIFIED:20170918T160007Z
SUMMARY:Funcionamento da secretaria do PPEA
PRIORITY:3
TRANSP:0
END:VEVENT
END:VCALENDAR
