BEGIN:VCALENDAR
PRODID:brasil.gov.agenda
VERSION:1.0
BEGIN:VEVENT
DTSTART:20170922T110000Z
DTEND:20170922T130000Z
DCREATED:20170918T155553Z
UID:Compromisso-a882d6eeecfd487b80752202596f630c
SEQUENCE:0
LAST-MODIFIED:20170918T155553Z
SUMMARY:Funcionamento da secretaria do PPEA
PRIORITY:3
TRANSP:0
END:VEVENT
END:VCALENDAR
