BEGIN:VCALENDAR
PRODID:brasil.gov.agenda
VERSION:1.0
BEGIN:VEVENT
DTSTART:20170920T120000Z
DTEND:20170920T180000Z
DCREATED:20170918T155400Z
UID:Compromisso-fa9758e7b58148d8a251ad8cd9f78daa
SEQUENCE:0
LAST-MODIFIED:20170918T155400Z
SUMMARY:Funcionamento da secretaria do PPEA
PRIORITY:3
TRANSP:0
END:VEVENT
END:VCALENDAR
