BEGIN:VCALENDAR
PRODID:brasil.gov.agenda
VERSION:1.0
BEGIN:VEVENT
DTSTART:20170919T120000Z
DTEND:20170919T180000Z
DCREATED:20170918T155303Z
UID:Compromisso-c0b373f9c8ce4115ae8b3572e2c36340
SEQUENCE:0
LAST-MODIFIED:20170918T155303Z
SUMMARY:Funcionamento da secretaria do PPEA
PRIORITY:3
TRANSP:0
END:VEVENT
END:VCALENDAR
