BEGIN:VCALENDAR
PRODID:brasil.gov.agenda
VERSION:1.0
BEGIN:VEVENT
DTSTART:20170915T120000Z
DTEND:20170915T182200Z
DCREATED:20170911T122331Z
UID:Compromisso-df4ffb28efbf4a83ae9c1a3bca37d848
SEQUENCE:0
LAST-MODIFIED:20170911T122331Z
SUMMARY:Funcionamento da secretaria do PPEA
PRIORITY:3
TRANSP:0
END:VEVENT
END:VCALENDAR
