BEGIN:VCALENDAR
PRODID:brasil.gov.agenda
VERSION:1.0
BEGIN:VEVENT
DTSTART:20170914T160000Z
DTEND:20170914T180000Z
DCREATED:20170808T134443Z
UID:Compromisso-2b98644253fe49daa5ee9eef93db1d09
SEQUENCE:0
LAST-MODIFIED:20170901T154459Z
SUMMARY:Defesa do trabalho de conclusão de Jullie Vianna\, turma 2015.
DESCRIPTION:Título do Trabalho: CONTAMINAÇÃO AMBIENTAL EM UNIDADES 
 DE CONSERVAÇÃO DE PROTEÇÃO INTEGRAL POR HIDROCARBONETOS POLIAROMÁ
 TICOS: O CASO DA RESERVA BIOLÓGICA UNIÃO – RJ/BRASIL
LOCATION:Campus Macaé
PRIORITY:3
TRANSP:0
END:VEVENT
END:VCALENDAR
