BEGIN:VCALENDAR
PRODID:brasil.gov.agenda
VERSION:1.0
BEGIN:VEVENT
DTSTART:20170913T170000Z
DTEND:20170913T190000Z
DCREATED:20170901T160709Z
UID:Compromisso-8b2139ff1d194efabdf193ddf82f7244
SEQUENCE:0
LAST-MODIFIED:20170905T125642Z
SUMMARY:ReuniÃ£o do Colegiado
DESCRIPTION:DefiniÃ§Ã£o de orientaÃ§Ãµes para a turma 2017\nAgenda de 
 defesas de dissertaÃ§Ã£o:\nDiscussÃ£o sobre calendÃ¡rio de reuniÃµes o
 rdinÃ¡rias do Colegiado do PPEA:\nSolicitaÃ§Ã£o da aluna Vanusa Rangel
 \nInclusÃ£o de aluno especial na disciplina ProduÃ§Ã£o e Fontes de Dad
 os e Sistemas de InformaÃ§Ãµes Ambientais em 2018.1\nProposta IF AmapÃ
 ¡:\nProjeto Prefeitura de QuissamÃ£\nInformes sobre a SECOTOX 2017
LOCATION:NÃºcleo de Pesquisa do PPEA
PRIORITY:3
TRANSP:0
END:VEVENT
END:VCALENDAR
