BEGIN:VCALENDAR
PRODID:brasil.gov.agenda
VERSION:1.0
BEGIN:VEVENT
DTSTART:20170913T165000Z
DTEND:20170913T170000Z
DCREATED:20170908T150153Z
UID:Compromisso-1dd5abdeb3c74a1a95a6e7343cb3ceda
SEQUENCE:0
LAST-MODIFIED:20170908T150153Z
SUMMARY:Defesa do trabalho de conclusão de Gleiciane Ferreira\, turma 2015.
DESCRIPTION:Qualidade ambiental e sua contribuição no Planejamento U
 rbano: Estudo de caso de São João da Barra/RJ
LOCATION:IFF-Campus Campos Centro\, na Sala 107 do Bloco F.
PRIORITY:3
TRANSP:0
END:VEVENT
END:VCALENDAR
