BEGIN:VCALENDAR
PRODID:brasil.gov.agenda
VERSION:1.0
BEGIN:VEVENT
DTSTART:20170906T120000Z
DTEND:20170906T180000Z
DCREATED:20170904T164928Z
UID:Compromisso-4041218595ed4bee8bbe8b54c595b778
SEQUENCE:0
LAST-MODIFIED:20170904T164928Z
SUMMARY:Funcionamento da secretaria do PPEA
PRIORITY:3
TRANSP:0
END:VEVENT
END:VCALENDAR
