BEGIN:VCALENDAR
PRODID:brasil.gov.agenda
VERSION:1.0
BEGIN:VEVENT
DTSTART:20170905T123000Z
DTEND:20170905T180000Z
DCREATED:20170905T125757Z
UID:Compromisso-e08edf9178d942729af1ca313c88ab2a
SEQUENCE:0
LAST-MODIFIED:20170905T125757Z
SUMMARY:Funcionamento da secretaria do PPEA
LOCATION:Campus Macaé
PRIORITY:3
TRANSP:0
END:VEVENT
END:VCALENDAR
