BEGIN:VCALENDAR
PRODID:brasil.gov.agenda
VERSION:1.0
BEGIN:VEVENT
DTSTART:20170904T120000Z
DTEND:20170904T175000Z
DCREATED:20170828T155057Z
UID:Compromisso-de191c336624440b962211aa475a61f5
SEQUENCE:0
LAST-MODIFIED:20170828T155057Z
SUMMARY:Funcionamento da secretaria do PPEA
PRIORITY:3
TRANSP:0
END:VEVENT
END:VCALENDAR
