BEGIN:VCALENDAR
PRODID:brasil.gov.agenda
VERSION:1.0
BEGIN:VEVENT
DTSTART:20170902T123800Z
DTEND:20170902T173800Z
DCREATED:20170828T153917Z
UID:Compromisso-ec7e15f4d99a40269fd01cab0d47c305
SEQUENCE:0
LAST-MODIFIED:20170828T153917Z
SUMMARY:Funcionamento da secretaria do PPEA
PRIORITY:3
TRANSP:0
END:VEVENT
END:VCALENDAR
