BEGIN:VCALENDAR
PRODID:brasil.gov.agenda
VERSION:1.0
BEGIN:VEVENT
DTSTART:20170901T123600Z
DTEND:20170901T173600Z
DCREATED:20170828T153729Z
UID:Compromisso-4d48d4adb07143f9b2361823a0904fef
SEQUENCE:0
LAST-MODIFIED:20170828T153730Z
SUMMARY:Funcionamento da secretaria do PPEA
PRIORITY:3
TRANSP:0
END:VEVENT
END:VCALENDAR
