BEGIN:VCALENDAR
PRODID:brasil.gov.agenda
VERSION:1.0
BEGIN:VEVENT
DTSTART:20170831T123500Z
DTEND:20170831T173500Z
DCREATED:20170828T153531Z
UID:Compromisso-6a2f6756fba340ce8d08b05e78f80432
SEQUENCE:0
LAST-MODIFIED:20170828T153531Z
SUMMARY:Funcionamento da secretaria do PPEA
PRIORITY:3
TRANSP:0
END:VEVENT
END:VCALENDAR
