BEGIN:VCALENDAR
PRODID:brasil.gov.agenda
VERSION:1.0
BEGIN:VEVENT
DTSTART:20170831T170000Z
DTEND:20170831T200000Z
DCREATED:20170811T123806Z
UID:Compromisso-2e20ac3986164f05ae73b13725ff1d9c
SEQUENCE:0
LAST-MODIFIED:20170815T115344Z
SUMMARY:Defesa do trabalho de conclusão de Elvio Caetano\, turma 2015.
DESCRIPTION:Título do trabalho: VIABILIDADE DA DESSALINIZAÇÃO DE Á
 GUA SALOBRA POR OSMOSE REVERSA
LOCATION:Campus Centro
PRIORITY:3
TRANSP:0
END:VEVENT
END:VCALENDAR
