BEGIN:VCALENDAR
PRODID:brasil.gov.agenda
VERSION:1.0
BEGIN:VEVENT
DTSTART:20170830T210000Z
DTEND:20170831T000000Z
DCREATED:20170828T153316Z
UID:Compromisso-d0e3f2e94d38443988823c26623c73c6
SEQUENCE:0
LAST-MODIFIED:20170828T153421Z
SUMMARY:Evento: Depressão\, e eu com isso?
DESCRIPTION:Mesa-redonda para alunos do Mestrado\n\n18h: Abertura - Or
 ganização - Mediador\n18:30h - Resiliência nos estudos\, motivaçã
 o nos estudos e depressão - Elias Hermenegildo\n19:10h - Família\, t
 rabalho\, quotidiano\, cansaço e depressão - Psic Mariana Tinoco\n19
 :50h - Stand Up Saúde - Eliana de Paula\n20:30h - Perguntas - Organiz
 ação
PRIORITY:3
TRANSP:0
END:VEVENT
END:VCALENDAR
