BEGIN:VCALENDAR
PRODID:brasil.gov.agenda
VERSION:1.0
BEGIN:VEVENT
DTSTART:20170829T120000Z
DTEND:20170829T172000Z
DCREATED:20170828T152437Z
UID:Compromisso-28a4478e27ac4afba3fba007cd86f665
SEQUENCE:0
LAST-MODIFIED:20170828T152437Z
SUMMARY:Funcionamento da secretaria do PPEA
PRIORITY:3
TRANSP:0
END:VEVENT
END:VCALENDAR
