BEGIN:VCALENDAR
PRODID:brasil.gov.agenda
VERSION:1.0
BEGIN:VEVENT
DTSTART:20170824T120000Z
DTEND:20170824T180000Z
DCREATED:20170823T125917Z
UID:Compromisso-59f71d7068184d81887bdfc5b9345130
SEQUENCE:0
LAST-MODIFIED:20170823T125917Z
SUMMARY:Funcionamento da secretaria do PPEA
PRIORITY:3
TRANSP:0
END:VEVENT
END:VCALENDAR
