BEGIN:VCALENDAR
PRODID:brasil.gov.agenda
VERSION:1.0
BEGIN:VEVENT
DTSTART:20170821T120000Z
DTEND:20170821T180000Z
DCREATED:20170818T162159Z
UID:Compromisso-5250d3ccc1bb471b813bc70a22301476
SEQUENCE:0
LAST-MODIFIED:20170818T162159Z
SUMMARY:Funcionamento da secretaria do PPEA
PRIORITY:3
TRANSP:0
END:VEVENT
END:VCALENDAR
