BEGIN:VCALENDAR
PRODID:brasil.gov.agenda
VERSION:1.0
BEGIN:VEVENT
DTSTART:20170818T120000Z
DTEND:20170818T200000Z
DCREATED:20170818T162316Z
UID:Compromisso-b3a1b23da6cb4fe8b0006b06965af961
SEQUENCE:0
LAST-MODIFIED:20170818T162316Z
SUMMARY:Funcionamento da secretaria do PPEA
PRIORITY:3
TRANSP:0
END:VEVENT
END:VCALENDAR
