BEGIN:VCALENDAR
PRODID:brasil.gov.agenda
VERSION:1.0
BEGIN:VEVENT
DTSTART:20170810T130000Z
DTEND:20170810T150000Z
DCREATED:20170808T133741Z
UID:Compromisso-24f34a49158a4b138985bb59b80d7ca2
SEQUENCE:0
LAST-MODIFIED:20170808T133742Z
SUMMARY:Qualificação de Mariana Araújo
DESCRIPTION:Título do Trabalho: Avaliação da emissão de gases dura
 nte a queima de cerâmica vermelha incorporada com pó de borracha e d
 a presença de metais pesados no produto final
LOCATION:Campus Macaé
PRIORITY:3
TRANSP:0
END:VEVENT
END:VCALENDAR
