BEGIN:VCALENDAR
PRODID:brasil.gov.agenda
VERSION:1.0
BEGIN:VEVENT
DTSTART:20170809T183000Z
DTEND:20170809T203000Z
DCREATED:20170808T123949Z
UID:Compromisso-b1995db00b8546b2a39af16bd7b2cd1e
SEQUENCE:0
LAST-MODIFIED:20170808T123949Z
SUMMARY:Qualificação de Rafael Cordeiro
DESCRIPTION:Título do trabalho: ESTUDO DE VIABILIDADE DA PRODUÇÃO D
 E TIJOLOS ECOLÓGICOS COM RESÍDUOS DE ESTAÇÃO DE TRATAMENTO DE ÁGU
 A
LOCATION:Campus Macaé
PRIORITY:3
TRANSP:0
END:VEVENT
END:VCALENDAR
