BEGIN:VCALENDAR
PRODID:brasil.gov.agenda
VERSION:1.0
BEGIN:VEVENT
DTSTART:20170809T170000Z
DTEND:20170809T190000Z
DCREATED:20170802T143649Z
UID:Compromisso-ebfceb3ae4fb4278a4dbdc0de89b82fa
SEQUENCE:0
LAST-MODIFIED:20170802T143756Z
SUMMARY:Qualificação de Janaína da Silva Ribeiro
DESCRIPTION:Título do trabalho: Uma revisão das metodologias de diag
 nóstico agroambiental em territórios quilombolas no estado do Rio de
  Janeiro
PRIORITY:3
TRANSP:0
END:VEVENT
END:VCALENDAR
