BEGIN:VCALENDAR
PRODID:brasil.gov.agenda
VERSION:1.0
BEGIN:VEVENT
DTSTART:20170809T170000Z
DTEND:20170809T190000Z
DCREATED:20170804T115710Z
UID:Compromisso-a494d0871c3949c891085ba490815a0d
SEQUENCE:0
LAST-MODIFIED:20170808T130714Z
SUMMARY:Qualificação de Dayse Alves
DESCRIPTION:Título do Trabalho: COLETA SELETIVA SOLIDÁRIA E GESTÃO 
 INTEGRADA DE RESÍDUOS SÓLIDOS NOS MUNICÍPIOS DO INTERIOR FLUMINENSE
 : O PAPEL DO TRIBUNAL DE JUSTIÇA DO ESTADO DO RIO DE JANEIRO
LOCATION:Campus Macaé
PRIORITY:3
TRANSP:0
END:VEVENT
END:VCALENDAR
