BEGIN:VCALENDAR
PRODID:brasil.gov.agenda
VERSION:1.0
BEGIN:VEVENT
DTSTART:20170808T180000Z
DTEND:20170808T200000Z
DCREATED:20170801T152825Z
UID:Compromisso-f7d3937814b44227821828536471c346
SEQUENCE:0
LAST-MODIFIED:20170801T152825Z
SUMMARY:Qualificação de Jan Fernandes Aslan
DESCRIPTION:Título do trabalho: Avaliação do Efeito Ecotoxicológic
 o dos Volumes Residuais e Efluentes das Operações Marítimas de Cime
 ntação de Poços de Petróleo e Gás
LOCATION:Campus Cabo Frio
PRIORITY:3
TRANSP:0
END:VEVENT
END:VCALENDAR
