BEGIN:VCALENDAR
PRODID:brasil.gov.agenda
VERSION:1.0
BEGIN:VEVENT
DTSTART:20170803T163000Z
DTEND:20170803T183000Z
DCREATED:20170728T132806Z
UID:Compromisso-39ff40550c18418e9677bc19d0f7db89
SEQUENCE:0
LAST-MODIFIED:20170728T134114Z
SUMMARY:Qualificação de Rafael Pereira Machado
DESCRIPTION:Título do trabalho: Prosperabilidade: uma proposta metodo
 lógica holística para avaliação da sustentabilidade de sistemas so
 cioambientais
LOCATION:Campus Macaé
PRIORITY:3
TRANSP:0
END:VEVENT
END:VCALENDAR
