BEGIN:VCALENDAR
PRODID:brasil.gov.agenda
VERSION:1.0
BEGIN:VEVENT
DTSTART:20170802T173000Z
DTEND:20170802T190000Z
DCREATED:20170725T135147Z
UID:Compromisso-24aa335b0c9d4c16b2d371d11743e65d
SEQUENCE:0
LAST-MODIFIED:20170725T135147Z
SUMMARY:Qualificação de Raphael Motta Nascimento
DESCRIPTION:Título do trabalho: A CONSTRUÇÃO DE INDICADORES COMO IN
 STRUMENTO PARA ANÁLISE DA QUALIDADE AMBIENTAL DA GESTÃO INTEGRADA DE
  RESÍDUOS SÓLIDOS URBANOS
LOCATION:Campus Centro
PRIORITY:3
TRANSP:0
END:VEVENT
END:VCALENDAR
