BEGIN:VCALENDAR
PRODID:brasil.gov.agenda
VERSION:1.0
BEGIN:VEVENT
DTSTART:20170802T120000Z
DTEND:20170802T140000Z
DCREATED:20170728T164558Z
UID:Compromisso-71471874836047f5b97e3b3c202c0382
SEQUENCE:0
LAST-MODIFIED:20170728T164558Z
SUMMARY:Qualificação de Neemias Roza Fernandes
DESCRIPTION:Título do trabalho: Proposição Metodológica para Avali
 ação de Potencial Poluidor Hídrico de Atividade Industriais
LOCATION:Campus Macaé
PRIORITY:3
TRANSP:0
END:VEVENT
END:VCALENDAR
