BEGIN:VCALENDAR
PRODID:brasil.gov.agenda
VERSION:1.0
BEGIN:VEVENT
DTSTART:20170802T193000Z
DTEND:20170802T213000Z
DCREATED:20170725T135549Z
UID:Compromisso-c3c37bf9bcf245059a254c9f35ef09ab
SEQUENCE:0
LAST-MODIFIED:20170725T135549Z
SUMMARY:Qualificação de Leandro Laurindo
DESCRIPTION:Título do trabalho: Distrito Industrial De Imboassica –
  Levantamento do Potencial de Implantação de Uma Bolsa de Resíduos 
 Industriais.
LOCATION:Campus Centro
PRIORITY:3
TRANSP:0
END:VEVENT
END:VCALENDAR
