BEGIN:VCALENDAR
PRODID:brasil.gov.agenda
VERSION:1.0
BEGIN:VEVENT
DTSTART:20170530T160000Z
DTEND:20170530T180000Z
DCREATED:20170524T123918Z
UID:Compromisso-5380384578c34ac19842a3221ee33958
SEQUENCE:0
LAST-MODIFIED:20170524T123918Z
SUMMARY:Defesa do trabalho de conclusão de Rachel Salles\, turma 2015.
DESCRIPTION:Título do trabalho: Estudo dos indicadores e índices de 
 salubridade ambiental aplicados a regiões estuarinas: o caso da comun
 idade de Gargaú\, São Francisco do Itabapoana/RJ
LOCATION:Sala de Videoconferência PPEA
PRIORITY:3
TRANSP:0
END:VEVENT
END:VCALENDAR
